BEGIN:VCALENDAR
METHOD:PUBLISH
VERSION:2.0
PRODID:-//Eventilla iCal Syndication//NONSGML Liana//EN
BEGIN:VEVENT
UID:zWvGo@eventilla.com
DTSTAMP:20260225T103000Z
DTSTART:20260225T103000Z
DTEND:20260225T133000Z
SUMMARY:Ravitsemus mielen ja työhyvinvoinnin tukena -webinaari
DESCRIPTION:Tervetuloa kuulemaan ravitsemustieteen ajankohtaisia näkökulmia mielen ja työhyvinvoinnin tukemisessa! Webinaarin aikana kuulemme RAVI-tutkimuksen sekä Mind Nutrition-tutkimuksen tuloksien lisäksi vierailevia ravitsemustieteen ja psykiatrian asiantuntijoita. \nTilaisuus järjestetään vain verkossa. Saat osallistumislinkin sähköpostiisi ilmoittautumisen jälkeen.\nAikataulu: \n12.30 Tilaisuuden avaus  \n12.35 Miten satakuntalaiset työikäiset syövät? Miksi tarvitaan ravitsemustutkimusta? Tuloksia RAVI- ja Mind Nutrition-tutkimuksista | Susanna Kunvik (ETT)\, Ravitsemustieteen erikoistutkija\, Projektipäällikkö\, RAVI- ja Mind Nutrition -hankkeet\n13.05 Tuloksia RAVI-tutkimuksesta: Mitä tapahtui\, kun annoimme satakuntalaisille työntekijöille ravitsemusohjausta? Meri Mustakallio (FM)\, Ravitsemusasiantuntija\, Tutkija\, RAVI-hanke\n13.25 Ravitsemusohjaus mielenterveys- ja päihdetyötä tekevien hoitajien keskuudessa: tuloksia Mind Nutrition-tutkimuksesta | Elina Nevala (TtM)\, Ravitsemusasiantuntija\, Tutkija\, Mind Nutrition -hanke\n13.45 Taukojumppa ja tauko\, taukojumpan vetää Erika Santala\, hyvinvointisuunnittelija\, SAMK\n14.00 Uusi “Työaikainen ruokailusuositus” työikäisten ruokailun tukena | Satu Jyväkorpi (dosentti\, FT)\, Pääsihteeri\, Valtion ravitsemusneuvottelukunta  \n14.30 Ravitsemuksen merkitys masennuksen hoidossa | Jyrki Korkeila (LL\, LT)\, Psykiatrian erikoislääkäri\, Psykiatrian professori emeritus\n15.00 Ravitsemus ja mielenterveys – mahdolliset mekanismit yhteyden taustalla | Anu Ruusunen (dosentti\, FT)\, Kliininen opettaja\, Laillistettu ravitsemusterapeutti\, Itä-Suomen yliopisto\n15.30 Tilaisuus päättyy\, linjat vielä avoinna kysymyksille.\n Liity webinaariin tästä\nTilaisuus tallennetaan. Tilaisuuden aikana kysymyksiä on mahdollista esittää keskustelukentän kautta.\nWebinaari on Satakunnan ammattikorkeakoulussa toimivan Ihmisen toimintakyvyn tutkimuskeskuksen Työikäisten ravitsemuksen tutkimuskärjen RAVI- ja Mind Nutrition -hankkeiden järjestämä. RAVI-hanke on Euroopan unionin osarahoittama. Mind Nutrition -hanketta rahoittaa SAMK.\nIlmoittautumalla hyväksyt tietojesi tallentamisen ja käsittelyn tapahtumaa varten SAMKin tietosuojarekisterin mukaisesti. Lisätietoja SAMKin tietosuojarekisteristä sekä hankehallintarekisterin tietosuojaselosteesta. 
LOCATION:
URL:http://events.samk.fi/event/zWvGo
END:VEVENT
END:VCALENDAR
