BEGIN:VCALENDAR
METHOD:PUBLISH
VERSION:2.0
PRODID:-//Eventilla iCal Syndication//NONSGML Liana//EN
BEGIN:VEVENT
UID:wkvRR@eventilla.com
DTSTAMP:20260513T060000Z
DTSTART:20260513T060000Z
DTEND:20260513T080000Z
SUMMARY:Tarpeesta toimintaan -työpaja nro 3 (hybridi)
DESCRIPTION:Tervetuloa työpajaan!\n\nTyöpaja järjestetään ke 13.5. klo 9–11 (hybridi)\nTyöpajassa esitellään\, miten kehitysvammaisten henkilöiden arjen tarpeita on tunnistettu\, millaisia digitaalisia ratkaisuja on kokeiltu käytännössä ja mitä kokeiluista on opittu.\nTyöpajat on tarkoitettu kehitysvammaisten kanssa työskenteleville ammattialisille ja alan opiskelijoille sekä kehitysvammaisia mahdollisesti työllistäville toimijoille.\nTyöpajat ovat samansisältöisiä.\nIlmoittaudu työpajaan!\nTeknologialla osallisuutta\, toimintakykyä ja asiakaslähtöistä palvelua\, TOTA-hanke toteutetaan ryhmähankkeena\, jossa päähankkeen toteuttajana on Tampereen yliopisto ja osahankkeen toteuttajana SAMK. Hanke toteutetaan Satakunnan ja Pirkanmaan alueella.
LOCATION:SAMK-kampus Pori, tila A101\, Satakunnankatu 23\, 28130\, Pori\,
 Suomi
URL:http://events.samk.fi/event/wkvRR
END:VEVENT
END:VCALENDAR
