BEGIN:VCALENDAR
METHOD:PUBLISH
VERSION:2.0
PRODID:-//Eventilla iCal Syndication//NONSGML Liana//EN
BEGIN:VEVENT
UID:opGg0@eventilla.com
DTSTAMP:20240131T220000Z
DTSTART:20240131T220000Z
DTEND:20240605T210000Z
SUMMARY:Sairaanhoitajan täydentävät opinnot (10 op\, nonstop): Mielenterveys-\, päihde- ja kriisityön osaaja ja kehittäjä
DESCRIPTION:Työelämässä toimiva sairaanhoitaja\, olet lämpimästi tervetullut täydentämään osaamistasi! \nOPINTOKOKONAISUUDEN SISÄLTÖ\nVerkko-opinnot nonstop-toteutuksena + simulaatio 1 op\n1.2.2024-31.7.2024 (HT210028A-3003): Mielenterveys- ja päihdehoitotyön osaaja ja kehittäjä A: https://samk.opinto-opas.fi/coursedescription/205264329?lang=fi\n12.2.2024-31.7.2024 (HT210028B-3001): Asiantuntijana ja kehittäjänä kriisityössä B: https://samk.opinto-opas.fi/coursedescription/205264331?lang=fi\nKOHDERYHMÄ\nTyöelämässä toimivat sairaanhoitajat\, jotka kaipaavat täydennystä osaamiseensa mielenterveys-\, päihde- ja kriisityöstä. \nTAVOITTEET\nA-osio\, 5 op\nTavallisimmat mielenterveyshäiriöt ja psykiatriset sairaudet lapsuudessa\, nuoruudessa ja ikääntyneillä; päihderiippuvuudet sekä muut riippuvuudet erilaisissa elämäntilanteissa; näyttöön perustuva tieto\, suositukset ja hyvät käytänteet; sairaanhoitajan eettiset ohjeet\, mielenterveystyöhön liittyvät lait\, asetukset ja ohjeet; kokemuksellisuus ja dialogisuus; monialaisen työryhmän ja verkoston jäsenenä toimiminen ja toiminnan kehittäminen; oman toiminnan johtaminen ja päätöksenteko-osaaminen; työnohjaus ammatillisen kehittymisen välineenä; hoitosuhdetyöskentely lasten\, nuorten\, ikääntyneiden\, perheiden ja yhteisöjen kanssa; osallisuuden ja toimintakyvyn vahvistaminen sekä yksilö\, että ryhmätasolla eri ikäisten hoitotyössä ja perhehoitotyössä; haastavan asiakkaan/potilaan kohtaaminen ja menetelmäosaaminen; päihdehoitotyön eettiset arvot ja periaatteet; asiakkaan\, perheen ja yhteisön voimaannuttava tukeminen; palveluohjaus; vanhemmuuden tukeminen; päihdehoitotyön laatu ja vaikuttavuus työntekijä- ja työyhteisötasolla; päihdehoitotyön prosessien ja menetelmien syventäminen.\nB-osio\, 5 op\nKriisi- ja traumatyöhön liittyvien käsitteiden syventäminen; traumojen hoidon menetelmäosaamisen syventäminen; kriisit ja traumat perheessä sekä yhteisöissä; lasten ja nuorten kriisit ja traumat; ikääntyneiden kriisit ja traumat; kaltoinkohtelua ja lähisuhdeväkivaltaa kokeneen kohtaaminen ja auttaminen; seksuaalista väkivaltaa ja hyväksikäyttöä kokeneen kohtaaminen ja auttaminen; selviytymisen tukeminen; onnettomuus- ja katastrofitilanteiden kriisinhallinta; defusing työyhteisön toimintakyvyn ylläpitäjänä; myötätuntouupumuksen ja sijaistraumatisoitumisen ehkäisy ja hoito.\nTOTEUTUS\nVoit suorittaa molemmat opintokokonaisuuden osat tai vain joko A tai B osan. Opintojakson A osa opiskellaan kokonaisuudessaan Nonstop verkko-opintoina. B osassa 4 opintopistettä opiskellaan Nonstop verkko-opintoina ja 1 op kontaktiopetuksessa simulaatio-opintoina keväällä 2024. \nMoodle-oppimisalustalla opiskelija opiskelee itsenäisesti erilaisten ohjeiden\, materiaalien ja testien avulla.\nOPINTOMAKSU\nSatakunnan ammattikorkeakoulun avoimen AMKin opintopisteperustainen maksu on 10 €/ opintopiste. Tämän opintokokonaisuuden opintomaksu on 100 €. Opintomaksu maksetaan ilmoittautuessa Meerkado koulutuskalenterissa ja sillä vahvistetaan opiskelupaikka. \nILMOITTAUTUMINEN \nhttps://www.meerkado.fi/apply/6739901/sairaanhoitajan-taydentavat-opinnot-10-op-nonstop-mielenterveys-paihde-ja-kriisityon-osaaja-ja-kehittaja\nLISÄTIEDOT \navoinamk@samk.fi\nToteutus ja sisällöt: Lehtori Mikko Nieminen\, p. 044 710 3177\nAvoimessa AMKissa opiskelu ja ilmoittautuminen: Koulutussuunnittelija Anu-Mari Elohaka\, p. 044 710 3121\nSähköpostit: etunimi.sukunimi@samk.fi\n \n 
LOCATION:SAMK kampus Pori\, Satakunnankatu 23\, 28130\, Pori
URL:http://events.samk.fi/event/opGg0
END:VEVENT
END:VCALENDAR
