BEGIN:VCALENDAR
METHOD:PUBLISH
VERSION:2.0
PRODID:-//Eventilla iCal Syndication//NONSGML Liana//EN
BEGIN:VEVENT
UID:l9OR6@eventilla.com
DTSTAMP:20260511T100000Z
DTSTART:20260511T100000Z
DTEND:20260511T120000Z
SUMMARY:Tarpeesta toimintaan -työpaja nro 2 (läsnä)
DESCRIPTION:Tervetuloa työpajaan!\n\nTyöpaja järjestetään ma 11.5. klo 13–15 (läsnä) Tampereen yliopistolla\nTyöpajassa esitellään\, miten kehitysvammaisten henkilöiden arjen tarpeita on tunnistettu\, millaisia digitaalisia ratkaisuja on kokeiltu käytännössä ja mitä kokeiluista on opittu.\nTyöpajat on tarkoitettu kehitysvammaisten kanssa työskenteleville ammattialisille ja alan opiskelijoille sekä kehitysvammaisia mahdollisesti työllistäville toimijoille.\nTyöpajat ovat samansisältöisiä.\nIlmoittaudu työpajaan!\nTeknologialla osallisuutta\, toimintakykyä ja asiakaslähtöistä palvelua\, TOTA-hanke toteutetaan ryhmähankkeena\, jossa päähankkeen toteuttajana on Tampereen yliopisto ja osahankkeen toteuttajana SAMK. Hanke toteutetaan Satakunnan ja Pirkanmaan alueella.
LOCATION:Tampereen yliopisto\, Päätalo B110 kokoushuone 1\, 33100\,
 Tampere\, Suomi
URL:http://events.samk.fi/event/l9OR6
END:VEVENT
END:VCALENDAR
