BEGIN:VCALENDAR
METHOD:PUBLISH
VERSION:2.0
PRODID:-//Eventilla iCal Syndication//NONSGML Liana//EN
BEGIN:VEVENT
UID:edRGA@eventilla.com
DTSTAMP:20260225T220000Z
DTSTART:20260225T220000Z
DTEND:20260512T210000Z
SUMMARY:Walk & Talk -ulkoilut (parillisina viikkoina)
DESCRIPTION:Lähde mukaan rennolle kävelylle ja juttelemaan hyvässä seurassa! Walk & Talk -ulkoilu järjestetään joka toinen viikko\, parillisina viikkoina keskiviikkoisin (4.3.\, 18.3.\, 1.4.\, 15.4.\, 6.5. ja 13.5.) klo 16.30–17.30.\nToiminnan järjestävät Soteekin kansainväliset opiskelijat. Walk & Talkissa tutustutaan lähiympäristöön\, uusiin ihmisiin ja nautitaan yhdessä ulkoilusta Suomen ihanassa luonnossa.\nTapaaminen Campus Meeting Pointilla ennen lähtöä.\nToiminta on avoin kaikille SAMKin opiskelijoille – tervetuloa mukaan!\n
LOCATION:SAMK-kampus Pori\, Satakunnankatu 23\, 28130\, Pori\, Suomi
URL:http://events.samk.fi/event/edRGA
END:VEVENT
END:VCALENDAR
