BEGIN:VCALENDAR
METHOD:PUBLISH
VERSION:2.0
PRODID:-//Eventilla iCal Syndication//NONSGML Liana//EN
BEGIN:VEVENT
UID:d4Ov7@eventilla.com
DTSTAMP:20260108T070000Z
DTSTART:20260108T070000Z
DTEND:20260108T080000Z
SUMMARY:Uudet ajattelumallit kiinteistö- ja rakennusalan liiketoiminnassa
DESCRIPTION:\nTervetuloa RETAKE- ja RAKEL-hankkeiden yhteiseen webinaariin\, jossa asiantuntijat keskustelevat kiinteistö- ja rakennusalan uusista liiketoimintamahdollisuuksista kiertotaloudessa. Tilaisuus on suunnattu rakentamisen ammattilaisille ja kaikille aiheesta kiinnostuneille. Webinaari on maksuton ja se tallennetaan.\nOhjelma:9.00–9.05 Webinaarin avaus\, Jenni Nurmi\, asiantuntija\, SAMK9.05–9.10 RETAKE hankkeen esittely\, Sanna Kujansuu\, projektipäällikkö\, TAMK9.10–9.15 RAKEL hankkeen esittely\, Jenina Luotolampi\, projektipäällikkö\, Miksei Mikkeli9.15–9.35 Asiantuntijapaneelikeskustelu - Tiia Huuskonen\, konseptikehittäjä\, Ecophon- Annukka Lyra\, erityisasiantuntija\, Ympäristöministeriö- Elmeri Nordenswan\, Sustainability Manager\, Castellum- Ville Uusitalo\, kiinteistömanageri\, Porin kaupunki9.35–9.55 Aikaa kysymyksille ja keskustelulleKeskustelua moderoivat Jussi Savolainen\, TAMK ja Krista Mäki\, SEAMK9.55–10.00 Webinaarin päätös\nIlmoittaudu tästä!\nTapahtuma on hankkeiden RETAKE\, jota rahoittaa Euroopan aluekehitysrahasto (EAKR) ja RAKEL\, jota rajoittaa Euroopan aluekehitysrahasto (EAKR) yhteistoteuttama. RETAKE on Tampereen ammattikorkeakoulun\, Seinäjoen ammattikorkeakoulun\, Satakunnan ammattikorkeakoulun ja Metropolian yhteishanke. RAKEL hankkeen päätoteuttajana toimii Oulun ammattikorkeakoulu  ja hankkeen osatoteuttajina ovat Jyväskylän ammattikorkeakoulu\, Suomen ympäristöopisto Sykli\, Mikkelin kehitysyhtiö Miksei Oy\, Vaasan ammattikorkeakoulu ja Kouvolan kaupunki. \nLisätietoa hankkeista saatavilla hankkeiden nettisivuilla:https://projects.tuni.fi/retake/https://oamk.fi/rakel
LOCATION:Webinaari, Teams
URL:http://events.samk.fi/event/d4Ov7
END:VEVENT
END:VCALENDAR
