BEGIN:VCALENDAR
METHOD:PUBLISH
VERSION:2.0
PRODID:-//Eventilla iCal Syndication//NONSGML Liana//EN
BEGIN:VEVENT
UID:bJBbQ@eventilla.com
DTSTAMP:20240414T150000Z
DTSTART:20240414T150000Z
DTEND:20240416T130000Z
SUMMARY:Opintomatka Ruotsin Roslageniin
DESCRIPTION:LÃ¤hde mukaan tutustumaan Roslagenin alueen yrityksiin ja kv-matkailun myynnin toteuttamiseen alueella!\nSatakunnan matkailun kansainvÃ¤listymishankeÂ ja Gurmeeta ruokamatkailun kehittÃ¤mishanke jÃ¤rjestÃ¤vÃ¤t opintomatkan Ruotsiin!Â Opintomatkalla pÃ¤Ã¤semme tutustumaan Roslagenin alueen erilaisiin yrityksiin ja siihen\, miten kv-matkailun myyntiÃ¤ toteutetaan.\nMatka on suunnattu Satakunnan matkailuyrityksille ja matkailun toimijoille. Hanke voi tukea maaseudun matkailuyritysten osallistumista alkaen 320 â‚¬ / hlÃ¶\, muiden matka on normaalihintainen.\nMatkaohjelma (muutokset mahdollisia)\nSu 14.4.2024 LÃ¤htÃ¶ Porista tapahtuu klo 18.30. Ajetaan Naantalin satamaan\, josta Finnlinesin uusi laiva M/S Finncanopus lÃ¤htee klo 23.00 kohti Ruotsin KapellskÃ¤riÃ¤. Laivaan pÃ¤Ã¤stÃ¤Ã¤n noin klo 21.30\, majoittuminen sisÃ¤hytteihin.\nMa 15.4.2024Â PerillÃ¤ KapellskÃ¤rissÃ¤ olemme klo 6.15 paikallista aikaa. NorrtÃ¤ljen idylliseen pikkukaupunkiin\, jossa ryhmÃ¤Ã¤ odottaa maittava hotelliaamiainen Hotell Ã\ntelletissa (esittely). https://atellet.se/\nVisit Roslagenin edustaja tapaa ryhmÃ¤n aamiaisen jÃ¤lkeen ja kertoo toiminnasta ja Roslagenin matkailusta yleensÃ¤kin. Edustajalle voisi lÃ¤hettÃ¤Ã¤ kysymyksiÃ¤ etukÃ¤teen. https://www.roslagen.se/\nNorrtÃ¤lje Brenneri. Panimon tilojen ja toiminnan esittely. Lasitetussa heinÃ¤ladossa nautitaan kahvia ja voileipiÃ¤ ja sen jÃ¤lkeen on tuotteiden esittely ja tasting. https://www.norrtaljebranneri.se/\nÃ–sterbybrukin ruukkialue. Bengt Lindholm on Ã–sterbybruk-sÃ¤Ã¤tiÃ¶n toiminnanjohtaja ja hÃ¤n esittelee aluetta. Alueella on useita yrityksiÃ¤ ja esittelyn jÃ¤lkeen on mahdollista vierailla nÃ¤issÃ¤ yrityksissÃ¤. https://www.osterbybruksherrgard.se/\nSalstan linna. IltapÃ¤ivÃ¤kahvit ja yritysesittely. https://salsta-slott.se/\nLÃ¤htÃ¶ kohti Tukholmaa\, jonne saavutaan klo 19.00. Viking Glory lÃ¤htee Turkuun klo 20.00.Â \nTI 16.4.2024 klo 7.35 ajo merelliseen Kuusistoon\, aamiainen ja tutustuminen Villa Wolaxiin.\nParaisilla tutustuminen keskustan Jazz Cafe Axoon (yrittÃ¤jinÃ¤ mezzosopraano Essi Luttinen ja pianisti Petri Haapasalo). TÃ¤mÃ¤n jÃ¤lkeen palkittu Nude-siideripanimo ja Tammiluodon viinitila (esittelyt + keittolounas).\nPaluumatka kohti Poria\, jonne saavutaan klo 16 mennessÃ¤.\nMatkan hankkeella tuettu hinta on:245 â‚¬/hlÃ¶Â jaetussa 2-hengen huoneessa295 â‚¬/hlÃ¶Â yhden hengen huoneessa\nMatkan hintaan sisÃ¤ltyy ohjelman mukaiset aamiaiset ja kahvitukset.Â Ohjelman mukaiset lounaat maksetaan lisÃ¤ksi erikseen kohteissa paikan pÃ¤Ã¤llÃ¤ (yhteensÃ¤ n. 40 â‚¬/hlÃ¶).Â Â \nKatso koko ohjelma ja ilmoittaudu mukaan 30.3.2024 mennessÃ¤!\nLisÃ¤tietoja:Saila Valkeaniemi\, saila.valkeaniemi@samk.fiSAMK / Matkailun kehittÃ¤miskeskusmatkailunkehittamiskeskus.fi
LOCATION:
URL:http://events.samk.fi/event/bJBbQ
END:VEVENT
END:VCALENDAR
