BEGIN:VCALENDAR
METHOD:PUBLISH
VERSION:2.0
PRODID:-//Eventilla iCal Syndication//NONSGML Liana//EN
BEGIN:VEVENT
UID:a772G@eventilla.com
DTSTAMP:20260923T060000Z
DTSTART:20260923T060000Z
DTEND:20260923T090000Z
SUMMARY:Off season osaamisryhmän tapaaminen #ruralfinlandtourismhub
DESCRIPTION:Hei Saila\,\n\nKiitos ilmoittautumisestasi!\n\nPääset mukaan Off season osaamisryhmän III tapaamiseen 23.9.2026 klo 9-12 teamsiin tästä:\n\nMicrosoft Teams -kokous\nLiity: https://teams.microsoft.com/meet/356017029085991?p=vTnguK5RpVkcGSbHUQ\nKokoustunnus: 356 017 029 085 991\nTunnuskoodi: oi2aV2QX\n________________________________________\n\n\n\nOrganisaatio/yritys Satakunnan ammattikorkeakoulu\nPaikkakunta Pori\n1. Onko sinulla kokemusta matkailun kehittämishankkeista tai rahoitushakemusten valmistelusta? Kyllä\, olen ollut mukana useammassa hankkeessa\nMillaisia off season -kehittämistarpeita tai tuoteideoita alueellasi on tunnistettu? (Voit mainita yhden esimerkin tai idean.) ruokamatkailu\n
LOCATION:
URL:http://events.samk.fi/event/a772G
END:VEVENT
END:VCALENDAR
