BEGIN:VCALENDAR
METHOD:PUBLISH
VERSION:2.0
PRODID:-//Eventilla iCal Syndication//NONSGML Liana//EN
BEGIN:VEVENT
UID:Ya6PX@eventilla.com
DTSTAMP:20260306T090000Z
DTSTART:20260306T090000Z
DTEND:20260306T120000Z
SUMMARY:Älykäs Teollisuus -rekrytapahtuma
DESCRIPTION:\nSAMKin opiskelijat esittelevät osaamistaan ja projektejaan Huittisissa perjantaina 6.3. klo 11-14.\nMiksi osallistua:– Tapaat motivoituneita ja osaavia kansainvälisiä insinööriopiskelijoita.– Saat suoran katsauksen opiskelijoiden osaamiseen projektien ja demonstraatioiden kautta.– Luot kontakteja muihin yrityksiin ja alan toimijoihin.– Edistät yrityksenne näkyvyyttä ja imagoa nuorten osaajien keskuudessa.\nEsillä Hans 5\, Turin TPW20\, Megmeet Aura 12\, Yaskawa HC10 ja 3D-tulostettu robotti.Tapaa tulevaisuuden tekijöitä\, keskustele työmahdollisuuksista\, tutustu uusiin tekoälyinnovaatioihin ja verkostoidu muiden yritysten kanssa.Milloin: perjantaina 6.3. klo 11-14Missä: Kuninkaisten kampuksella Huittisissa\, A-aulassaMaksuton tapahtuma. Esillä mielenkiintoisia robotteja! Ei ennakkoilmoittautumista. Tervetuloa mukaan!
LOCATION:Kuninkaisten kampus, A-aula\, Risto Rytin katu 70\, 32700\,
 Huittinen\, Suomi
URL:http://events.samk.fi/event/Ya6PX
END:VEVENT
END:VCALENDAR
