BEGIN:VCALENDAR
METHOD:PUBLISH
VERSION:2.0
PRODID:-//Eventilla iCal Syndication//NONSGML Liana//EN
BEGIN:VEVENT
UID:R1OzP@eventilla.com
DTSTAMP:20240829T053000Z
DTSTART:20240829T053000Z
DTEND:20240829T083000Z
SUMMARY:Markkinoinnin käytännön keinot ja analytiikka -workshop
DESCRIPTION:Tervetuloa Tiedolla johtamisen edelläkävijä -hankkeen Markkinoinnin käytännön keinot ja analytiikka -workshopiin torstaina 29.8.2024 klo 8.30–11.30.\nTervetuloa hands-on workshopiin\, jossa saat syventävää käytännön ohjausta datan hyödyntämiseen markkinoinnissa. Tuo oma tietokoneesi mukaan ja valmistaudu sukeltamaan syvälle dataohjautuvaan markkinointiin! Suosittelemme ennen workshopia osallistumaan Tehosta markkinointisi datalla -webinaariin\, jossa tutustumme aiheeseen teorian kautta. Webinaari ei ole kuitenkaan pakollinen.\nTyöpajassa käymme yhdessä läpi Tehosta markkinointisi datalla -webinaarin jälkeen annetun tehtävän ja opit\, kuinka dataa analysoimalla voit luoda tarkasti kohdennettuja kampanjoita\, parantaa asiakaskokemusta ja kasvattaa liiketoimintasi tuloksia. Saat henkilökohtaista ohjausta ja konkreettisia työkaluja\, joiden avulla voit heti viedä oppimasi käytäntöön. \nVoit ilmoittautua alta lisäämällä yhden lipun ''ostoskoriin''\, ja sen jälkeen täyttää tietosi lomakkeelle. Lomakkeen täyttämisen jälkeen saat vahvistusviestissä kalenterikutsun\, jonka voit tallentaa kalenteriisi. Tarkistathan myös roskapostisi! Tilaisuuteen osallistuminen on maksutonta. \nLisätiedot:Susan Råberg-Vikkula\, susan.raberg-vikkula@samk.fi Mikko Pakkasela\, Mikko.Pakkasela@samk.fi \nTiedolla johtamisen edelläkävijä -hankkeen webinaarit ja workshopit ovat konkretiaa\, joiden avulla yritykset saavat käsityksen tiedolla johtamisen mahdollisuuksista. Näissä yrityksille muodostuu selkeä käsitys niistä työkaluista ja toimintamallien potentiaalista liiketoiminnassa\, mitä tiedolla johtaminen mahdollistaa. \nKatso myös muut tapahtumamme: https://www.tiedollajohtaminen.fi/tapahtumat/\n
LOCATION:Satakunnan ammattikorkeakoulu\, Satakunnankatu 23\, 28130\,
 Pori\, Suomi
URL:http://events.samk.fi/event/R1OzP
END:VEVENT
END:VCALENDAR
