BEGIN:VCALENDAR
METHOD:PUBLISH
VERSION:2.0
PRODID:-//Eventilla iCal Syndication//NONSGML Liana//EN
BEGIN:VEVENT
UID:LPrQ1@eventilla.com
DTSTAMP:20260319T080000Z
DTSTART:20260319T080000Z
DTEND:20260319T090000Z
SUMMARY:Sienet ruokatuliaisena - pakkaukset ja parhaat käytännöt
DESCRIPTION:Haluatko tarjota matkailijoille laadukkaita\, sienistä valmistettuja elintarvikkeita kotiin viemisiksi?\nTervetuloa käytännönläheiseen webinaariin\, jossa pureudumme siihen\, miten sienistä tehdään houkuttavia ruokatuliaisia. Webinaarissa käydään läpi mm.\n\nmillaiset tuotteet ja pakkaukset toimivat ruokalahjoina\nmillaisia pakkausmerkintöjä pakkauksista pitää löytyä\nkiinnostavia sienituotteita ja pakkauksia maailmalta\n\nWebinaarissa kuullaan myös yrittäjän puheenvuoro: Riitta Rontu\, Syötteen sieni ja yrtti ky.\nWebinaari sopii hyvin esimerkiksi sienten poimijoille\, jatkojalostajille\, ravintola- ja matkailuyrityksille.\nKouluttajana toimii Anna Rinteinen\, MKN Itä-Suomi\n 
LOCATION:Teams
URL:http://events.samk.fi/event/LPrQ1
END:VEVENT
END:VCALENDAR
