BEGIN:VCALENDAR
METHOD:PUBLISH
VERSION:2.0
PRODID:-//Eventilla iCal Syndication//NONSGML Liana//EN
BEGIN:VEVENT
UID:JPwyz@eventilla.com
DTSTAMP:20260603T100000Z
DTSTART:20260603T100000Z
DTEND:20260603T120000Z
SUMMARY:Mobiilirobotiikan iltapäivä yrityksille
DESCRIPTION:Tervetuloa tutustumaan mobiilirobotiikan ajankohtaisiin ratkaisuihin ja niiden mahdollisuuksiin eri toimialoilla! \nKehittyneet mobiilirobotit ja niiden ohjausjärjestelmät tehostavat yritysten toimintaa\, parantavat turvallisuutta ja vapauttavat henkilöstön aikaa tuottavampiin tehtäviin niin teollisuudessa\, logistiikassa kuin palveluympäristöissäkin.\nTilaisuudessa esitellään\, miten mobiilirobotit voivat tukea yritysten arkea\, sujuvoittaa materiaalivirtoja sekä lisätä toiminnan joustavuutta. Lisäksi tutustutaan useamman robotin älykkääseen yhteistoimintaan eli parviohjaukseen\, joka mahdollistaa tehtävien tehokkaan koordinoinnin. RoboAI-tutkimuskeskuksen laboratoriossa pääset tutustumaan eri mobiilirobottimalleihin käytännössä.\nIltapäivän aikana RoboFleet-hankkeen asiantuntijat jakavat kokemuksia mobiilirobotiikan hyödyntämisestä ja soveltuvuudesta erilaisiin käyttökohteisiin\, kuten:\n\nmateriaalien ja tuotteiden kuljetukset tuotannossa ja varastoissa\nsisälogistiikan automatisointi ja reititys\nrutiininomaisten ja toistuvien tehtävien automatisointi\nturvallisuuden parantaminen riskialttiissa työympäristöissä\npalvelurobotiikan ratkaisut asiakas- ja hoivaympäristöissä\njoustavan tuotannon ja älykkäiden tilojen kehittäminen\n\nTervetuloa mukaan tutustumaan tulevaisuuden työkaluihin! Ilmoittaudu mukaan alla olevan lomakkeen kautta.\n \nLisätietoja: Ville Konttinen\, ville.konttinen@samk.fi\, p. 050 434 5527\nLisätietoja RoboFleet-hankkeesta.\n\nTilaisuus on osa RoboAI:n RoboFleet – Mobiilirobottien ja eksoskeletonien muodostamien parvien tehokas hyödyntäminen -hanketta\, jolle Satakuntaliitto on myöntänyt osarahoitusta alueiden kehittämisen ja Euroopan unionin alue- ja rakennepolitiikan hankkeiden rahoittamisesta (757/2021) annetun lain nojalla. Hankkeen toimenpiteet kuuluvat Euroopan unionin oikeudenmukaisen siirtymän rahoituksen (JTF) säädösten soveltamisalan piiriin.
LOCATION:A107, SAMK Kampus Pori\, Satakunnankatu 23\, 28130\, Pori\,
 Finland
URL:http://events.samk.fi/mobiilirobot
END:VEVENT
END:VCALENDAR
