BEGIN:VCALENDAR
METHOD:PUBLISH
VERSION:2.0
PRODID:-//Eventilla iCal Syndication//NONSGML Liana//EN
BEGIN:VEVENT
UID:GwyOG@eventilla.com
DTSTAMP:20250312T070000Z
DTSTART:20250312T070000Z
DTEND:20250312T080000Z
SUMMARY:Miten tekoälyä voi hyödyntää myynnissä ja markkinoinnissa sekä kuvien tuotannossa?
DESCRIPTION:TEKOÄLY MATKAILUALAN YRITYSTEN TUEKSI webinaarisarja 3/3\nWebinaarissa tutustutaan miten luovaa tekoälyä voidaan hyödyntää asiakaskäyttäytymisen ymmärtämisessä\, asiakasprofiloinnissa ja räätälöidyssä viestinnässä. Rakennamme myös monikielisiä virtuaalimyyjiä ja -asiakaspalvelijoita (chatbotit) ja viemme ne verkkosivuille. Näytämme miten tekoälyä voi hyödyntäädata-analytiikassa\, datan visualisoinnissa ja ennustamisessa.\nLisäksi tutustumme miten tekoälyllä voi luoda kuvia\, visualisointeja ja videoita. Webinaari antaa todella kattavan kuvan tekoälyn mahdollisuuksista matkailuyritysten myynnissä\, markkinoinnissa ja asiakaspalvelussa.\nAjankohtainen webinaarisarja tarjoaa käytännönläheistä osaamista tekoälyn hyödyntämisestä liiketoiminnassa. Kolmessa webinaarissa sukellamme luovan tekoälyn perusteisiin\, opimme hyödyntämään tekoälyä arjen työssä ja tutkimme sen mahdollisuuksia myynnin ja markkinoinnin kehittämisessä.\nVisit Finland Akatemia kouluttaja Ville Niemijärvi (FlowHouse) on yksi Suomen kokeneimmista ChatGPT- jatekoälykouluttajista. Maksuttomat webinaarit järjestää Älyä Matkassa- hanke.\nWebinaari järjestetään Teamsissa ja osallistumislinkki lähetetään sähköpostitse viimeistään päivää ennen.\nTervetuloa mukaan!\nIlmoittaudu tästä!\nLisätietoja:saila.valkeaniemi@samk.fiannika.koskenkorva@samk.fiSAMK / Matkailun kehittämiskeskusmatkailunkehittamiskeskus.fi
LOCATION:Teams
URL:http://events.samk.fi/tekoaly-webinaarisarja3
END:VEVENT
END:VCALENDAR
