BEGIN:VCALENDAR
METHOD:PUBLISH
VERSION:2.0
PRODID:-//Eventilla iCal Syndication//NONSGML Liana//EN
BEGIN:VEVENT
UID:DVdok@eventilla.com
DTSTAMP:20250506T100000Z
DTSTART:20250506T100000Z
DTEND:20250506T130000Z
SUMMARY:Neuvottelutaidot -koulutus 6.5.2025
DESCRIPTION:Usein ajatellaan\, että hyvä neuvottelutaito saadaan synnyinlahjana\, mutta neuvottelutaito on täysin opeteltavissa\, eikä neuvotteluun osallistumista pidä arastella. Koulutus herättelee innostavalla ja hauskalla tavalla liikeneuvottelun maailmaan\, ja osoittaa\, että kaikkien on mahdollista kehittyä taitavaksi neuvottelijaksi. Vuorovaikutteinen koulutus tarjoaa käytännönläheisen lähestymistavan neuvottelutaitojen perusteisiin sisältäen lyhyitä tietoiskuja. Pääpaino on käytännön rooliharjoituksissa.\n \nKOULUTUKSEN KESKEINEN SISÄLTÖ\nNeuvottelun eri vaiheet:\n\nNeuvotteluun valmistautuminen: valmistautumisen merkitys ja keskeisimmät seikat\, neuvotteluun valmistautujan muistilista.\nNeuvottelun aloitus: miten neuvottelu kannattaa aloittaa\nNeuvottelun edistäminen: Miten ohjata neuvotteluja kohti hyvää lopputulosta\n\n \nKOULUTUKSEN TAVOITTEET\nOsallistuja ymmärtää neuvottelutaidon merkityksen menestyksekkäässä liiketoiminnassa ja osaa huomioida tärkeimmät asiat neuvotteluun valmistautumisessa. Osallistuja osaa asettaa neuvotteluun soveltuvat tavoitteet sekä soveltaa neuvottelutaidon perustyötyökaluja neuvottelutilanteessa.\n \nKOHDERYHMÄ\nTyöelämässä liikeneuvottelutaitoja tarvitsevat henkilöt\n \nTOTEUTUSTAPA\nKoulutuksen kesto on 3 tuntia (klo 13-16). \nKoulutus tapahtuu luokkatoteutuksena SAMKin tiloissaRauman kampuksella (Satamakatu 26).\n \nKOULUTUKSEN HINTA \n150\,60 € (120 € + alv 25\,5 %) / osallistuja. Koulutusmaksu laskutetaan osallistujilta koulutuksen toteutumisen jälkeen\n \nKOULUTTAJA\nKatri Kesti\, lehtori\, Diplomi-insinööri (tietojohtaminen)\n \nILMOITTAUTUMINEN JA PERUUTUSEHDOT\nIlmoittautuminen koulutukseen 22.4.2025\, klo 16.00 mennessä. \nHUOM! Koulutuksessa on minimiosallistujamäärä (10 henkilöä)\, jolla se voidaan toteuttaa. Koulutuksen toteutuminen vahvistetaan ilmoittautuneille sähköpostitse viimeisen ilmoittautumispäivämäärän jälkeen.\nMikäli osallistuminen peruutetaan koulutuksen viimeisen ilmoittautumispäivämäärän jälkeen\, veloitamme osallistumismaksusta 50 %. Jos ilmoittautunut jää saapumatta koulutukseen\, veloitetaan osallistumismaksu kokonaisuudessaan. Esteen sattuessa ilmoittautunut voi maksutta ilmoittaa tilalleen toisen henkilön.\n \nLISÄTIEDOT\nKoulutuksen sisältö: katri.kesti@samk.fi\nKoulutuksen käytännönjärjestelyt: meri-maija.marva@samk.fi\nIlmoittautumiseen ja osallistumismaksuihin liittyvät kysymykset: anu-mari.elohaka@samk.fi
LOCATION:SAMK-kampus Rauma\, Satamakatu 26\, 26100\, Rauma\, Suomi
URL:http://events.samk.fi/neuvottelutaidot_rauma
END:VEVENT
END:VCALENDAR
