BEGIN:VCALENDAR
METHOD:PUBLISH
VERSION:2.0
PRODID:-//Eventilla iCal Syndication//NONSGML Liana//EN
BEGIN:VEVENT
UID:D4rGE@eventilla.com
DTSTAMP:20240608T070000Z
DTSTART:20240608T070000Z
DTEND:20240608T130000Z
SUMMARY:Taikayöntiepäivä
DESCRIPTION:Taikayöntiepäivää vietetään valtakunnallisen avoimet kylät -päivänä lauantaina 8.6.2024 klo 10–16! Taikayöntie on Satakunnan ja Pirkanmaan taitteessa sijaitseva\, Huittisista Punkalaitumen kautta Urjalaan kulkeva lumoava matkailutie!\nPäivän aikana Taikayöntien alueen kunnissa Huittisissa\, Punkalaitumella ja Urjalassa useat käyntikohteet ja kyläyhdistykset järjestävät avoimien ovien tapahtumia\, tutustumiskäyntejä sekä muita omia tapahtumia. Tutustu lisää alla päivän tapahtumiin!\n \nUrjalassa:\n\nHessitalli järjestää hevosajelutusta Urjalankylässä klo 11–13 (maksullinen)Urjalan kotiseutumuseolta Kivisakastin ja Koulumaan väliä (5€ hlö/sylilapset maksutta). Yhteyshenkilö Heidi Sinda/ Hessitalli 0405861937Osoite: Urjalan museo\, Museotie 14\, 31720 Urjalankylä.\nKajabacan viinitila\, UrjalankyläKajabacan viinitilaKajalahdentie 20\, 31720 Urjalankylä\, asta@kajabaca.fi\, puh. 044 538 7453\n\nViidessä vuodessa virkamiehistä viinimaakareiksi. Tutustumisvierailu Kajabacan viinitilalle\, n. 1 tuntiTervetuloa Kajabacan viinitilalle\, kuuntelemaan tarinaa siitä\, miten meistä tuli viinintekijöitä. Tutustu marjatarhaan ja marjanviljelyyn ja marjaviinien valmistusprosessiin. Tarinoiden jälkeen voitte jäädä terassille viinien ja muiden juomien ja hyvän seuran pariin ja tehdä ostoksia Viinerissä. Tutustumiskäynti on maksuton. Päivän aikana on kaksi esittelykierrosta: klo 10.00 ja klo 13.00. Tervetuloa!\nVinyyli-ilta: On The Road Kajabacan viinitilan terassilla soitellaan valikoituja vinyylikiekkoja\, jotka soivat muhkean nostalgisesti 80-luvun latvialaisista kaiuttimista. Tänään\, Taikayöntiellä kun ollaan\, teemana on On The Road. Pekka jutustelee levyistä\, bändeistä ja musiikista biisien välissä. Musiikkia ei juurikaan soitella tältä vuosituhannelta. Kuuntelu on maksutonta. Vinyyli-ilta alkaa klo 18.00 ja jatkuu tunnin verran\, pidempäänkin. Tervetuloa!\n\n\n\n \n\nNuutajärven Lasikylä: Maksuton sisäänpääsy museoon! Myös uusi myymämaailma on avoinna!Urjalassa sijaitseva 230-vuotias Nuutajärven Lasikylä on Suomen vanhin! Museoon on maksuton sisäänpääsy Taikayöntiepäivänä! Museossa on ääniopastus. Uusi myymälämaailma Muottipaja sekä Iittala pop up -liike ovat myös avoinna! Nauti Nuutajärven Lasikylän historiallisesta miljööstä ja uudistuneesta tarjonnasta.Osoite: Pruukinraitti 15\, 31160 Urjala\n\n \n\nPölkinvuoren elämyspuutarhassa yleisöopastukset klo 13.00 ja 15.00 (14€/18+ v hlö)Koe upea Pölkinvuoren elämyksellinen puutarha Urjalassa! Yli 300 000 kukkasipulia ja 500 hehtaaria! Yleisöopastukset sisältävät sisäänpääsyn ja tunnin opastuksen. Osoite: Pölkinvuori\, Ikaalantie 10\, 31700 Urjala as. Puh. 040 050 5073\n\n \n\nRajamäentilan kesäkahvila navetanvintillä1940-luvulla rakennetun tiilinavetan vintillä idyllinen kesäkahvila ja tarinallinen tilan historiasta kertova näyttely. Neuletuotteita sekä tilan omaa hunajaa.Osoite: Rajamäentila\, Jokikulmantie 134\, 31700 Urjala. Puh. 040 7444 343\n\n \n\nUrjalan 4H-yhdistys järjestää kepparikisat Urjalan kotiseutumuseolla klo 14.00Yhteistyössä Sanna Rekola eläintenhoitaja\, Hessitalli. Yhteyshenkilö Sanna Rekola / Urjalan 4H-yhdistys\, 040 1827528Osoite: Urjalan kotiseutumuseo\, Museotie 14\, 31720 Urjalankylä. \n\n \n\n      Urjala-Seura ry järjestää avoimet ovat Urjalan kotiseutumuseolla\, klo 10–16Urjalankylässä\, aivan Taikayöntien varrella rauhallisella ja idyllisellä mäellä sijaitseva Urjalan kotiseutumuseo kertoo hämäläisen talonpojan elämäntavasta 1800-lopulla ja pienviljelijäkäsityöläisen elämästä 1940-luvulla. Ei sisäänpääsymaksua. Museo-opas paikalla koko päivän ajan. Työnäytöksiä. Koulumaa ry. pitää museolla kahvilaa. Yhteystiedot: Anna Toriseva / puheenjohtaja Urjala-Seura ry / puh. 040 760 1251UrjalankotiseutumuseoOsoite: Museotie 14\, 31720 Urjalankylä.\n\n \n\nUrjalan vanha kivisakasti\, avoimet ovet klo 10–16Urjalan kotiseutumuseon lähellä\, kävelymatkan päässä\, on 1520-1540 -luvuilta peräisin oleva Urjalan vanha kivisakasti. Kivisakastilla on avoimet ovet ja opas paikalla klo 10-16 välisenä aikana.Osoite: Punkalaitumentie 433\, Urjalankylä\n\n \n\nOpastettu Urjala -kierros klo 11 ja 14 (kesto 45 min)Opastettu Urjala -kierros sisältää vierailun kansalliskirjailijamme Väinö Linnan työhuoneella Urjalan kirjastolla sekä vierailun Urjalan kirkolla ja hautausmaalla. Kierros on maksuton ja kesto n. 45 min. Kierrokset alkavat kirjaston edestä (Tampereentie 4). Oppaina Juha Salo ja Marja-Riitta Touru.\n\n \nPunkalaitumella:\n\nMäenpään työväentalolla avoimet ovet klo 11–15Punkalaitumella sijaitseva Mäenpään työväentalo on ehdolla Unescon maailmanperintökohteeksi Helsingin Paasitornin rinnalla. Mäenpään työväentalo on poikkeuksellisen hyvin säilynyt esimerkki maaseudun puurakenteisista työväentaloista\, jollaisia maa- ja metsätyöläiset rakensivat talkoovoimin 1900-luvun alussa. Taloa ylläpidetään talkoovoimin\, lahjoitusvaroin\, järjestämällä erilaisia kulttuuritapahtumia ja vuokraamalla sitä juhla- ja muihin tilaisuuksiin.Osoite: Lauttakyläntie 58\, 31900 Punkalaidun. Puh: 040 3522 526\, Jouko Mäkelä.\n\n \n\nYli-Kirran talonpoikaismuseolla avoimet ovet klo 10.00–16.00. Kahvio ja oheistuotemyymälä ovat avoinna.Koiramäentalona tunnettu Yli-Kirran talonpoikaismuseo Punkalaitumella edustaa tyypillistä\, umpipihatyyliin rakennettua 1800-luvun satakuntalaista maalaistaloa. Museoalue sisältää kaikkiaan yli 36 rakennusta ja rakennelmaa. Yli-Kirra teki aikoinaan lähtemättömän vaikutuksen myös tunnettuun lastenkirjailijaan Mauri Kunnakseen. Yli-Kirra tunnetaankin ”Koiramäen talona”\, jonka esikuva Yli-Kirra on. Osoite: Koiramäentie 2\, 31900 Punkalaidun\, puh. 040 1990 680.\n\n \n\nPitäjänseudun kyläyhdistys järjestää kyläkirmauksen ja laiturin lasku -talkootPitäjän seudun kyläyhdistys järjestää 8.6. Haukankosken lenkillä Kyläkirmauksen ja laiturinlasku talkoot. Mehua\, kahvia ja pullapala sekä tulet omille makkaroille. Lenkin mitta on n. 8 km hienossa avarassa maisemassa. Osoite: Haukankosken laavu\, Kostilantie 290\, 31900 Punkalaidun\n\nHuittisissa:\n\nHuittisten museo (Kirkkotie 4\, 32700 Huittinen)Huittisten museo sisältää vaihtuvan näyttelyn lisäksi oman näyttelynsä paikallisesta talonpoikaiskulttuurista\, Huittisista lähtöisin olevista presidentti Risto Rytistä\, kuvanveistäjä Lauri Leppäsen taiteen kokoelmasta sekä huittislaisen Hugo Kivisen ITE-veistoksista.\n\nAvoimet ovet Huittisten museolla klo 12.00–16.00Vapaa sisäänpääsy. Opastetut kierrokset museon perusnäyttelyihin: klo 13 Miten ennen elettiin. klo 14 Presidentti Risto Ryti–juuret Huittisissa. klo 15 Lauri Leppänen–valon ja varjon mestari. Museonystävien pop up -kahvio.\n\n\n\n \n\nEnnen ehtookelloja la 8.6.2024 klo 16.30 Taikayöntiepäivän kiireetön kävelykierros Huittisten hautausmaalla.Oppaana Tarja Eklöf. Kierros alkaa klo 16.30 Huittisten kirkon pääportilta (Kirkkotie\, Huittinen). Kesto 1-1\,5 h. Lisätiedot Tarja Eklöf\, puh. 040 7460 665. Tervetuloa.\n\n \n\nAvoimet kylät - Huittisten kyläkierros\, bussiopastus\, klo 9.30–14.15. Ennakkoilmoittautuminen on päättynyt.\n\n \n\nLauttaRokki\, Lauttakylässä\, Huittisten keskustassa klo 15–23.30. https://www.lauttarokki.fi/etusivu/\n\n \nTaikayöntiepäivässä mukana myös Taikayöntien Lumo -hanke!\nLisätiedot:Niina AaltoProjektipäällikkö\, Taikayöntien Lumo -hankeniina.k.aalto@samk.fi+358 44 710 3384\n
LOCATION:Taikayöntie
URL:http://events.samk.fi/taikayontiepaiva
END:VEVENT
END:VCALENDAR
