BEGIN:VCALENDAR
METHOD:PUBLISH
VERSION:2.0
PRODID:-//Eventilla iCal Syndication//NONSGML Liana//EN
BEGIN:VEVENT
UID:3Qe32@eventilla.com
DTSTAMP:20260419T083000Z
DTSTART:20260419T083000Z
DTEND:20260423T113000Z
SUMMARY:Study in Europe Fair India 2026
DESCRIPTION:Come and meet SAMK at Study in Europe Fair India 2026\nMeet universities\, Discover scholarships\, Plan your adventure\nDate: 19 April 2026\, at 14–18 IST\, Study in Europe at the FPP fairCity: DelhiLocation: The LaLiT New Delhi\nDate: 21 April 2026\, at 16–20 IST\, Study in Europe at the FPP fairCity: BangaloreLocation: The LaLiT Ashok BengaluruDate: 23 April 2026\, at 14–17 IST Virtual fair\nFrom April 19–23\, 2026\, Indian (prospective) students are invited to the Study in Europe Fair\, a FREE hybrid event series in Delhi and Bangalore as well as online. Meet representatives from 30+ universities and national agencies across multiple European countries\, explore study programmes\, scholarships\, Erasmus+ options\, and connect with mentors and alumni sharing their experiences.\nThis is a perfect chance to begin your European academic adventure. More information and a registration link will follow at a later stage.\nMore information about the events.\nWe warmly invite you to visit us!
LOCATION:The LaLiT New Delhi\, Fire Brigade Lane, Barakhamba,\, 110001\,
 Delhi\, India
URL:http://events.samk.fi/event/3Qe32
END:VEVENT
END:VCALENDAR
