BEGIN:VCALENDAR
METHOD:PUBLISH
VERSION:2.0
PRODID:-//Eventilla iCal Syndication//NONSGML Liana//EN
BEGIN:VEVENT
UID:2wPvp@eventilla.com
DTSTAMP:20250213T110000Z
DTSTART:20250213T110000Z
DTEND:20250213T130000Z
SUMMARY:Visit Finland`s STF Hub train the trainer network clinic in English
DESCRIPTION:The webinar is intended for tourism teaching staff and trainers and will be held in English. The clinic will cover the latest updates on STF and provide an introduction to the new STF Hub and the STF Hub Demo for educational institutions instucted by Hanna Muoniovaara (Visit Finland).\nIn this Train the Trainer network you can get inspired and learn about the Sustainable Travel Finland (STF) program and sustainable tourism in tourism education. \nThe goal of the network is to strengthen Finland's sustainable tourism network within the education sector and to encourage mutual support among participants. The network is maintained by Visit Finland in collaboration with the Rural Finland Tourism Hub project.\nRegister here by 10 February 2025\nFor more information:\nRural Finland Tourism Hub project:Saila Valkeaniemisaila.valkeaniemi@samk.fi\nSuvi Ahonensuvi.ahonen@jamk.fi\nVisit Finland:Hanna Muoniovaarahanna.muoniovaara@businessfinland.fi\nPicture: Hannu Tarvainen\, Visit Finland \n
LOCATION:
URL:http://events.samk.fi/event/2wPvp
END:VEVENT
END:VCALENDAR
