BEGIN:VCALENDAR
METHOD:PUBLISH
VERSION:2.0
PRODID:-//Eventilla iCal Syndication//NONSGML Liana//EN
BEGIN:VEVENT
UID:2k5wD@eventilla.com
DTSTAMP:20240820T053000Z
DTSTART:20240820T053000Z
DTEND:20240820T063000Z
SUMMARY:Tehosta markkinointisi datalla -webinaari
DESCRIPTION:Tervetuloa Tiedolla johtamisen edelläkävijä -hankkeen Tehosta markkinointisi datalla -webinaariin tiistaina 20.8.2024 klo 8.30–9.30.\nOta haltuun markkinoinnin tulevaisuus datan avulla! Tule mukaan webinaariin\, jossa saat selkeät\, käytännönläheiset ohjeet ja vinkit\, miten hyödyntää dataa markkinoinnin\, brändäyksen ja asiakaskokemusten tehostamisessa. Opit tunnistamaan oikeat mittarit\, keräämään ja analysoimaan dataa sekä tekemään tietopohjaisia päätöksiä\, jotka parantavat kampanjoiden tuloksia ja asiakastyytyväisyyttä.\nWebinaarin jälkeen osallistuneille annetaan tehtävä datan hyödyntämisestä markkinoinnissa ja siksi suosittelemme osallistumaan webinaarin jälkeen myös Markkinoinnin käytännön keinot ja analytiikka -workshopiin. Webinaarissa käsitellään tehtävä ja samalla pääsemme kokeilemaan käytännössä tämän webinaarin teorioita.\nVoit ilmoittautua alta lisäämällä yhden lipun ''ostoskoriin''\, ja sen jälkeen täyttää tietosi lomakkeelle. Lomakkeen täyttämisen jälkeen saat vahvistusviestissä kalenterikutsun ja linkin webinaarin Teamsiin. Tarkistathan myös roskapostisi! Tilaisuuteen osallistuminen on maksutonta. \nLisätiedot:Susan Råberg-Vikkula\, susan.raberg-vikkula@samk.fi Mikko Pakkasela\, Mikko.Pakkasela@samk.fi \nTiedolla johtamisen edelläkävijä -hankkeen webinaarit ja workshopit ovat konkretiaa\, joiden avulla yritykset saavat käsityksen tiedolla johtamisen mahdollisuuksista. Näissä yrityksille muodostuu selkeä käsitys niistä työkaluista ja toimintamallien potentiaalista liiketoiminnassa\, mitä tiedolla johtaminen mahdollistaa.\nKatso myös muut tapahtumamme: https://www.tiedollajohtaminen.fi/tapahtumat/\n
LOCATION:Webinaari
URL:http://events.samk.fi/event/2k5wD
END:VEVENT
END:VCALENDAR
