BEGIN:VCALENDAR
METHOD:PUBLISH
VERSION:2.0
PRODID:-//Eventilla iCal Syndication//NONSGML Liana//EN
BEGIN:VEVENT
UID:0egXg@eventilla.com
DTSTAMP:20260513T060000Z
DTSTART:20260513T060000Z
DTEND:20260513T083000Z
SUMMARY:Jätevedestä resurssiksi - Ravinteiden talteenoton mahdollisuudet elintarviketeollisuudelle
DESCRIPTION:Webinaari ravinteiden talteenoton ratkaisuista erityisesti elintarviketeollisuuden jätevesille\nTervetuloa ravinteiden talteenottoa elintarviketeollisuuden jätevesistä käsittelevään webinaariin!\nJätevedestä resurssiksi - Ravinteiden talteenoton mahdollisuudet elintarviketeollisuudelle\n13.5.2026 klo 9-11.30 Teamsin välityksellä\nLuvassa tietoa ravinteiden talteenotosta\, teknologiatoimittajien esittelyitä sekä elintarviketeollisuuden kommenttipuheenvuoro.\nAlustava ohjelma:\n9.00 Avaussanat - Pirjo Taube\, Prizztech Oy\n9.05 Anna Mikola\, Aalto-yliopisto\n9.20 Danielle Bansfield\, EnviPro Oy\n9.40 ilmoitetaan myöhemmin\n10.00 Tauko\n10.10 Yrityspuheenvuorot\n\nBiobros Oy\nFlocon Technologies\n\n11.10 Riika-Mari Mäkinen\, Satakunnan ammattikorkeakoulu\n11.20 Biovahva-hanke ja päätössanat - Minna Haavisto\, Prizztech OyTilaisuus järjestetään osana Satakunnan biotalouden vahvistaminen ja varmistaminen - BIOVAHVA -hanketta\, joka on osa SAMKin koordinoimaa hankekokonaisuutta. Mukana ovat myös Pyhäjärvi-instituutti\, Prizztech sekä Satafood Kehittämisyhdistys. Hanke toteutetaan ajalla 1.1.2024-30.6.2026. Hanke on Euroopan unionin osarahoittama.\nIlmoittaudu mukaan!\n \n      
LOCATION:Teams
URL:http://events.samk.fi/event/0egXg
END:VEVENT
END:VCALENDAR
